BEGIN:VCALENDAR
VERSION:2.0
PRODID:-//Tukios.com/
BEGIN:VEVENT
UID:9cc3fd61-cd16-47ef-b89e-5f8e654308ee@www.petersfh.net
DTSTAMP:20260420T073058Z
DTSTART:20260423T220000Z
DTEND:20260424T000000Z
SUMMARY:Visitation
DESCRIPTION:
URL:https://www.petersfh.net/obituaries/david-bud-wiebenga-2026
LOCATION: 1112 College ST  Springfield SD 57062
GEO:42.8582613;-97.8966111
END:VEVENT
END:VCALENDAR