BEGIN:VCALENDAR
VERSION:2.0
PRODID:-//Tukios.com/
BEGIN:VEVENT
UID:ca1ea7a9-00cf-44ab-a5de-6b61e0da46c5@www.petersfh.net
DTSTAMP:20260420T072836Z
DTSTART:20260424T153000Z
DTEND:20260424T163000Z
SUMMARY:Funeral Service
DESCRIPTION:
URL:https://www.petersfh.net/obituaries/david-bud-wiebenga-2026
LOCATION: 1112 College ST  Springfield SD 57062
GEO:42.8582613;-97.8966111
END:VEVENT
END:VCALENDAR